BEGIN:VCALENDAR
VERSION:2.0
PRODID:-//Heimat- und Trachtenverein Bernried am Starnberger See - ECPv6.15.20//NONSGML v1.0//EN
CALSCALE:GREGORIAN
METHOD:PUBLISH
X-ORIGINAL-URL:https://trachtenverein-bernried.de
X-WR-CALDESC:Veranstaltungen für Heimat- und Trachtenverein Bernried am Starnberger See
REFRESH-INTERVAL;VALUE=DURATION:PT1H
X-Robots-Tag:noindex
X-PUBLISHED-TTL:PT1H
BEGIN:VTIMEZONE
TZID:Europe/Zurich
BEGIN:DAYLIGHT
TZOFFSETFROM:+0100
TZOFFSETTO:+0200
TZNAME:CEST
DTSTART:20240331T010000
END:DAYLIGHT
BEGIN:STANDARD
TZOFFSETFROM:+0200
TZOFFSETTO:+0100
TZNAME:CET
DTSTART:20241027T010000
END:STANDARD
BEGIN:DAYLIGHT
TZOFFSETFROM:+0100
TZOFFSETTO:+0200
TZNAME:CEST
DTSTART:20250330T010000
END:DAYLIGHT
BEGIN:STANDARD
TZOFFSETFROM:+0200
TZOFFSETTO:+0100
TZNAME:CET
DTSTART:20251026T010000
END:STANDARD
BEGIN:DAYLIGHT
TZOFFSETFROM:+0100
TZOFFSETTO:+0200
TZNAME:CEST
DTSTART:20260329T010000
END:DAYLIGHT
BEGIN:STANDARD
TZOFFSETFROM:+0200
TZOFFSETTO:+0100
TZNAME:CET
DTSTART:20261025T010000
END:STANDARD
END:VTIMEZONE
BEGIN:VEVENT
DTSTART;TZID=Europe/Zurich:20250403T190000
DTEND;TZID=Europe/Zurich:20250403T230000
DTSTAMP:20260423T161714
CREATED:20250319T204046Z
LAST-MODIFIED:20250319T204046Z
UID:576-1743706800-1743721200@trachtenverein-bernried.de
SUMMARY:Musikerstammtisch
DESCRIPTION:
URL:https://trachtenverein-bernried.de/event/musikerstammtisch/
LOCATION:Trachtenheim
END:VEVENT
BEGIN:VEVENT
DTSTART;TZID=Europe/Zurich:20250409T171500
DTEND;TZID=Europe/Zurich:20250409T174500
DTSTAMP:20260423T161714
CREATED:20250303T085549Z
LAST-MODIFIED:20250303T132905Z
UID:554-1744218900-1744220700@trachtenverein-bernried.de
SUMMARY:Volkstanzprobe Kinder und Jugendliche
DESCRIPTION:
URL:https://trachtenverein-bernried.de/event/kindertanztermin-3/
LOCATION:Trachtenheim
END:VEVENT
BEGIN:VEVENT
DTSTART;TZID=Europe/Zurich:20250411T163000
DTEND;TZID=Europe/Zurich:20250411T180000
DTSTAMP:20260423T161714
CREATED:20250121T084248Z
LAST-MODIFIED:20250410T164605Z
UID:462-1744389000-1744394400@trachtenverein-bernried.de
SUMMARY:Palmbuschbinden
DESCRIPTION:
URL:https://trachtenverein-bernried.de/event/palmbuschbinden/
ATTACH;FMTTYPE=image/jpeg:https://trachtenverein-bernried.de/wp-content/uploads/2024/11/Foto-11.08.24-11-35-31-edited.jpg
END:VEVENT
BEGIN:VEVENT
DTSTART;TZID=Europe/Zurich:20250411T193000
DTEND;TZID=Europe/Zurich:20250411T203000
DTSTAMP:20260423T161714
CREATED:20250303T085826Z
LAST-MODIFIED:20250303T133033Z
UID:560-1744399800-1744403400@trachtenverein-bernried.de
SUMMARY:Volkstanzübungsabend (Erwachsene)
DESCRIPTION:
URL:https://trachtenverein-bernried.de/event/erwachsenentanz-2/
LOCATION:Trachtenheim
END:VEVENT
BEGIN:VEVENT
DTSTART;VALUE=DATE:20250429
DTEND;VALUE=DATE:20250430
DTSTAMP:20260423T161714
CREATED:20250303T085649Z
LAST-MODIFIED:20250303T132846Z
UID:556-1745884800-1745971199@trachtenverein-bernried.de
SUMMARY:Volkstanzprobe Kinder und Jugendliche
DESCRIPTION:Gerneralprobe für 1. Mai. Uhrzeit steht noch nicht fest.
URL:https://trachtenverein-bernried.de/event/kindertanztermin-4/
LOCATION:Trachtenheim
END:VEVENT
END:VCALENDAR